BEGIN:VCALENDAR
VERSION:2.0
PRODID:-//Open Programmable Infrastructure Project - ECPv6.15.20//NONSGML v1.0//EN
CALSCALE:GREGORIAN
METHOD:PUBLISH
X-ORIGINAL-URL:https://opiproject.org
X-WR-CALDESC:Events for Open Programmable Infrastructure Project
REFRESH-INTERVAL;VALUE=DURATION:PT1H
X-Robots-Tag:noindex
X-PUBLISHED-TTL:PT1H
BEGIN:VTIMEZONE
TZID:UTC
BEGIN:STANDARD
TZOFFSETFROM:+0000
TZOFFSETTO:+0000
TZNAME:UTC
DTSTART:20230101T000000
END:STANDARD
END:VTIMEZONE
BEGIN:VTIMEZONE
TZID:America/Denver
BEGIN:DAYLIGHT
TZOFFSETFROM:-0700
TZOFFSETTO:-0600
TZNAME:MDT
DTSTART:20240310T090000
END:DAYLIGHT
BEGIN:STANDARD
TZOFFSETFROM:-0600
TZOFFSETTO:-0700
TZNAME:MST
DTSTART:20241103T080000
END:STANDARD
BEGIN:DAYLIGHT
TZOFFSETFROM:-0700
TZOFFSETTO:-0600
TZNAME:MDT
DTSTART:20250309T090000
END:DAYLIGHT
BEGIN:STANDARD
TZOFFSETFROM:-0600
TZOFFSETTO:-0700
TZNAME:MST
DTSTART:20251102T080000
END:STANDARD
BEGIN:DAYLIGHT
TZOFFSETFROM:-0700
TZOFFSETTO:-0600
TZNAME:MDT
DTSTART:20260308T090000
END:DAYLIGHT
BEGIN:STANDARD
TZOFFSETFROM:-0600
TZOFFSETTO:-0700
TZNAME:MST
DTSTART:20261101T080000
END:STANDARD
END:VTIMEZONE
BEGIN:VEVENT
DTSTART;VALUE=DATE:20241015
DTEND;VALUE=DATE:20241018
DTSTAMP:20260423T085246
CREATED:20240913T023149Z
LAST-MODIFIED:20240913T023201Z
UID:10000006-1728950400-1729209599@opiproject.org
SUMMARY:OCP Global Summit (San Jose\, California)
DESCRIPTION:The 2024 OCP Global Summit takes place in San Jose\, California\, on October 15-17. The theme this year is “From Ideas to Impact”. This encapsulates the transformative journey at the heart of the Open Compute Project. \nOn Wednesday\,  October 16 at 12:50 – 1:10pm\, Paul Pindell\, Principal Architect at F5 and Chair of the OPI Project Marketing Outreach Working Group\, and Derek Miller\, Senior Principal Security Architect at Arm and OPI community member\, will give a presentation titled\, “Beyond CPUs and GPUs: Extending Confidential Computing to DPUs for Enhanced AI Security.” \n\nConfidential computing is a hot topic that is gaining momentum thanks to the need of privacy preserving AI use cases  running on 3rd party infrastructure. Hardware-based enclaves such as AMD SEV\, Intel TDX\, and Arm CCA are now considered the most pragmatic approach. On the GPU side\, we are also seeing support added to the NVIDIA H100. So far\, the focus has been on implementations in the Central CPUs and GPUs. With the adoption of DPUs to offload task such as TLS proxy services\, over-the-network storage operations and asymmetric cryptography there is a strong case to extend Confidential Compute to these devices. In this talk we will go through what makes the intersection of confidential computing and DPUs so interesting\, and will present our ongoing work exploring new use cases such as vicarious attestation and mesh services offload.   With these opportunities presented\, we hope to influence manufactures of DPU cards to produce solutions that enable Confidential Compute. \nCheck out the complete schedule here. \n\nSeveral other OPI Project leaders and ambassadors will be on-site at the Summit ready to answer questions or discuss OPI at member booths including: \n\nArm\nIntel\nDell Technologies\nKeysight\nMarvell\n\nOPI Project will have a demo at the Arm booth while other booths will showcase technology tested in the OPI lab. More details to come….
URL:https://opiproject.org/event/ocp-global-summit-2024/
LOCATION:CA
CATEGORIES:Industry Conference
ATTACH;FMTTYPE=image/png:https://opiproject.org/wp-content/uploads/sites/26/2024/09/Screenshot-2024-09-12-at-7.11.37 PM.png
END:VEVENT
BEGIN:VEVENT
DTSTART;TZID=America/Denver:20251017T090000
DTEND;TZID=America/Denver:20251017T140000
DTSTAMP:20260423T085246
CREATED:20250804T172812Z
LAST-MODIFIED:20250926T153159Z
UID:10000007-1760691600-1760709600@opiproject.org
SUMMARY:OPI Summit on DPU/IPUs
DESCRIPTION:  \nThe First OPI Summit on DPU/IPUs will be (unofficially) co-located with OCP Global summit\, and will take place on October 17\, 2025\, in San Jose\, CA at The Tech Interactive (a 4 minute walk from the Convention Center). The OPI Summit is open to everyone involved in the design\, development\, integration\, marketing\, use\, or support of DPU/IPUs\, or related hardware\, software\, or services. \nOPI Summit on DPU/IPUs seeks original\, high-quality submissions that improve and further the knowledge of DPU/IPUs\, with an emphasis on ease-of-use\, PoC implementations and experimental results. We are interested in systems of all scales\, from small embedded devices to data centers and clouds. \nView the OPI Summit on DPU/IPUs 2025 schedule & directory. \nInterested in attending? CLICK HERE TO REGISTER.
URL:https://opiproject.org/event/opi-summit-on-dpu-ipus/
LOCATION:The Tech Interactive\, 201 S. Market St.\, San Jose\, CA\, 95113
END:VEVENT
END:VCALENDAR